BEGIN:VCALENDAR
VERSION:2.0
PRODID:-//wp-events-plugin.com//7.2.3.1//EN
TZID:Europe/Berlin
X-WR-TIMEZONE:Europe/Berlin
BEGIN:VEVENT
UID:39@oekologisch-essen.de
DTSTART;TZID=Europe/Berlin:20251119T123000
DTEND;TZID=Europe/Berlin:20251119T183000
DTSTAMP:20251031T110458Z
URL:https://oekologisch-essen.de/veranstaltungen/vergabegipfel-mehr-bio-in
 -oeffentlichen-einrichtungen-dialogforum/
SUMMARY:Vergabegipfel: Mehr Bio in öffentlichen Einrichtungen - Dialogforu
 m
DESCRIPTION:\n\nWie lassen sich „Bio“ und „Regionalität“ rechtssic
 her in der öffentlichen Vergabe verankern? Beim BioBitte-Dialogforum erwa
 rten Sie spannende Einblicke in innovative Ansätze der Markterkundung und
  die Durchführung des Vergabeverfahrens\, in zukunftsweisende Verpflegung
 s- und Beratungskonzepte und in die rechtlichen Möglichkeiten einer Essen
 sbezuschussung.\n\nHöhepunkte des Programms:\n\n 	Praxiserfahrungen und B
 est-Practice-Beispiele im Vergaberecht\n 	Inspirierende Impulsvorträge f
 ührender Vergaberechtsexperten\n 	Erfahrungsaustausch für Vergabestellen
  in Form von Workshops\n 	Catering- und Lieferbetriebe: Erwartungen der Ve
 rgabestellen verstehen und erfolgreich anbieten\n\n\nInfos zur Anmeldung:\
 n\nEingeladen sind Träger und Vergabestellen in den Kommunen und Landkrei
 sen der Metropolregion München sowie Beratung\, Küchenbetreibende\, Lief
 erbetriebe / Handel und weitere Interessierte aus Politik und Verwaltung. 
 Die Teilnahme ist kostenfrei!\n\nGestalten Sie mit uns Lösungen für eine
  möglichst bio-regionale Beschaffung!\n\nHier anmelden\n\nVeranstalter vo
 r Ort ist Ecozept GmbH für die Initiative BioBitte\, in Kooperation mit d
 em Referat für Klima- und Umweltschutz der Landeshauptstadt München (RKU
 )\, Sachgebiet „Nachhaltige Ernährung“.\nFür Rückfragen wenden Sie 
 sich bitte an Michael Böhm: boehm@ecozept.de\n\n\nMehr Informationen\nZur
  Webseite der Veranstaltung
ATTACH;FMTTYPE=image/jpeg:https://oekologisch-essen.de/wp-content/uploads/
 2025/08/Titelbild-HausDerKost.png
CATEGORIES:Vernetzung
LOCATION:Haus der Kost\, Freddie-Mercury-Straße 5\, 80797 München\, Deuts
 chland
X-APPLE-STRUCTURED-LOCATION;VALUE=URI;X-ADDRESS=Freddie-Mercury-Straße 5\,
  80797 München\, Deutschland;X-APPLE-RADIUS=100;X-TITLE=Haus der Kost:geo
 :0,0
END:VEVENT
BEGIN:VTIMEZONE
TZID:Europe/Berlin
X-LIC-LOCATION:Europe/Berlin
BEGIN:STANDARD
DTSTART:20251026T020000
TZOFFSETFROM:+0200
TZOFFSETTO:+0100
TZNAME:CET
END:STANDARD
END:VTIMEZONE
END:VCALENDAR