BEGIN:VCALENDAR
VERSION:2.0
PRODID:-//wp-events-plugin.com//7.2.3.1//EN
TZID:Europe/Berlin
X-WR-TIMEZONE:Europe/Berlin
BEGIN:VEVENT
UID:28@oekologisch-essen.de
DTSTART;TZID=Europe/Berlin:20241106T180000
DTEND;TZID=Europe/Berlin:20241106T210000
DTSTAMP:20241014T065540Z
URL:https://oekologisch-essen.de/veranstaltungen/teller-statt-tonne/
SUMMARY:Teller statt Tonne!
DESCRIPTION:11 Millionen Tonnen Lebensmittel landeten 2020 in Deutschland i
 m Müll. Gleichzeitig gibt es vom Acker bis zum heimischen Kühlschrank vi
 ele Gelegen-eiten\, Lebensmittel davor zu bewahren\, unnötig weggeworfen 
 zu werden. Wir besprechen die verschiedenen Möglichkeiten wie Foodsharing
 \, Rettertaschen oder Lebensmittelspenden. Auch Themen wie Mindesthaltbark
 eit\, Resteverwertung und Haltbarmachen von Lebensmitteln kommen zur Sprac
 he. Selbstverständlich schwingen wir auch den Kochlöffel\, um das Gerett
 ete in köstliche Gerichte zu verwandeln.\n\nMaximal 12 Teilnehmer\n\nBitt
 e mitbringen:\n\n 	Schürze\n 	2 - 3 kleine Vorratsdosen\n\nOrt:\n\n 	Mün
 chner Ernährungsrat e.V.\n 	Milchstraße 13\, 81667 München\n\nKosten pr
 o Person:\n\n 	22 € (Mitglied BN München)\n 	26 € (Nichtmitglieder)\n
 \nReferentin:\n\n 	Susanne Kiehl\, Projektstelle Ökologisch Essen\n\n&nbs
 p\;\n\n\nJetzt anmelden:\nbitte per Mail an susanne.kiehl@bn-muenchen.de\n
 &nbsp\;\n\n&nbsp\;\nVeranstalter:\n\n\nMit freundlicher Unterstützung:\n\
 n
ATTACH;FMTTYPE=image/jpeg:https://oekologisch-essen.de/wp-content/uploads/
 2024/09/Titelbild-Teller-statt-Tonne.png
CATEGORIES:Kochkurs
END:VEVENT
BEGIN:VTIMEZONE
TZID:Europe/Berlin
X-LIC-LOCATION:Europe/Berlin
BEGIN:STANDARD
DTSTART:20241027T020000
TZOFFSETFROM:+0200
TZOFFSETTO:+0100
TZNAME:CET
END:STANDARD
END:VTIMEZONE
END:VCALENDAR