BEGIN:VCALENDAR
VERSION:2.0
PRODID:-//wp-events-plugin.com//7.2.3.1//EN
TZID:Europe/Berlin
X-WR-TIMEZONE:Europe/Berlin
BEGIN:VEVENT
UID:24@oekologisch-essen.de
DTSTART;TZID=Europe/Berlin:20240511T100000
DTEND;TZID=Europe/Berlin:20240511T170000
DTSTAMP:20240508T103151Z
URL:https://oekologisch-essen.de/veranstaltungen/tag-des-offenen-rathauses
 /
SUMMARY:Tag des offenen Rathauses
DESCRIPTION:Bio-regional genießen in der Münchner Rathauskantine\nZum Tag
  des offenen Rathauses am Samstag\, den 11. Mai 2024 kommen in der Münchn
 er Rathauskantine vorwiegend regionale Lebensmittel aus ökologischem Land
 bau auf die Speisekarte.\n\nIn Kooperation mit Pächter Jürgen Wiesenhofe
 r und weiteren Partner:innen haben wir ein besonderes Menü entworfen: in 
 der Region produziert oder verarbeitet\, aus ökologischem Landbau und fai
 r für Mensch und Tier.\n\nKommen Sie vorbei und probieren Sie selbst!\nDi
 e Lieferbetriebe\nWas kommt woher? Auf der Übersichtskarte finden Sie die
  Lieferbetriebe der Schmankerl\, die in der Region München produziert und
  / oder verarbeitet wurden.\n\n&nbsp\;
ATTACH;FMTTYPE=image/jpeg:https://oekologisch-essen.de/wp-content/uploads/
 2024/05/Sharepic-Rathaus.png
END:VEVENT
BEGIN:VTIMEZONE
TZID:Europe/Berlin
X-LIC-LOCATION:Europe/Berlin
BEGIN:DAYLIGHT
DTSTART:20240331T030000
TZOFFSETFROM:+0100
TZOFFSETTO:+0200
TZNAME:CEST
END:DAYLIGHT
END:VTIMEZONE
END:VCALENDAR