BEGIN:VCALENDAR
VERSION:2.0
PRODID:-//wp-events-plugin.com//7.2.3.1//EN
TZID:Europe/Berlin
X-WR-TIMEZONE:Europe/Berlin
BEGIN:VEVENT
UID:38@oekologisch-essen.de
DTSTART;TZID=Europe/Berlin:20250925T130000
DTEND;TZID=Europe/Berlin:20250925T160000
DTSTAMP:20250822T085606Z
URL:https://oekologisch-essen.de/veranstaltungen/tag-der-offenen-tuer/
SUMMARY:Tag der offenen Tür
DESCRIPTION:Erleben Sie bei unserem Info-Nachmittag anschauliche Best-Pract
 ice-Beispiele\, erfahren Sie mehr über unsere Beratungsangebote und lerne
 n Sie\, wie wir Sie bei der Transformation ihrer Gastronomie unterstützen
  können.
ATTACH;FMTTYPE=image/jpeg:https://oekologisch-essen.de/wp-content/uploads/
 2025/08/Titelbild-HausDerKost.png
CATEGORIES:Tag der offenen Tür
LOCATION:Haus der Kost\, Freddie-Mercury-Straße 5\, 80797 München\, Deuts
 chland
X-APPLE-STRUCTURED-LOCATION;VALUE=URI;X-ADDRESS=Freddie-Mercury-Straße 5\,
  80797 München\, Deutschland;X-APPLE-RADIUS=100;X-TITLE=Haus der Kost:geo
 :0,0
END:VEVENT
BEGIN:VTIMEZONE
TZID:Europe/Berlin
X-LIC-LOCATION:Europe/Berlin
BEGIN:DAYLIGHT
DTSTART:20250330T030000
TZOFFSETFROM:+0100
TZOFFSETTO:+0200
TZNAME:CEST
END:DAYLIGHT
END:VTIMEZONE
END:VCALENDAR