BEGIN:VCALENDAR
VERSION:2.0
PRODID:-//wp-events-plugin.com//7.2.3.1//EN
TZID:Europe/Berlin
X-WR-TIMEZONE:Europe/Berlin
BEGIN:VEVENT
UID:34@oekologisch-essen.de
DTSTART;TZID=Europe/Berlin:20250515T170000
DTEND;TZID=Europe/Berlin:20250515T210000
DTSTAMP:20250427T120828Z
URL:https://oekologisch-essen.de/veranstaltungen/schnippeldisko-im-haus-de
 r-kost/
SUMMARY:Schnippeldisko im Haus der Kost
DESCRIPTION:Schnippeln\, Kochen und Party am 15. Mai im Haus der Kost des R
 eferat für Klima- und Umweltschutz im Munich Urban Colab: Unter Anleitung
  von Profi-Köchen wird aus gerettetem Obst und Gemüse von lokalen Märkt
 en\, Supermärkten und Foodsharing-Partnern ein feines vegetarisches Menü
  zubereitet – jede Menge Tipps für nachhaltiges Kochen und Resteverwert
 ung inklusive. Der Eintritt ist frei.\n\nSo läuft’s ab: Um 17 Uhr start
 en wir mit einer kurzen Begrüßung und Kücheneinweisung\, anschließend 
 kochen wir in Gruppen mehrere Gerichte. Was auf den Teller kommt\, entsche
 idet sich kurzfristig und hängt davon ab\, welche geretteten Lebensmittel
  verarbeitet werden können. Von Suppen und Eintöpfen über Aufstriche bi
 s hin zu frischen Salaten kann alles dabei sein. Von 18 bis 21 Uhr dreht s
 ich die Diskokugel und es wird gemeinsam gegessen und gefeiert.\n\nDie Ver
 anstaltung im Haus der Kost findet in Kooperation mit BUND Naturschutz in
  Bayern e.V.\, Münchner Ernährungsrat e.V. und Foodsharing München 
 statt – starke Partner\, die sich für Nachhaltigkeit und gegen Lebensmi
 ttelverschwendung einsetzen.\n\nCopyright Veranstaltungsbild: ©Unsplash /
  SOCIAL CUT\n\nAnmeldung bitte auf Eventbrite\n\n____\n\nDE: Bitte beachte
 n Sie: Während der Veranstaltung werden vom Munich Urban Colab Fotos und 
 Filme zu Zwecken der Öffentlichkeitsarbeit gemacht.\n\nENG: Please note: 
 During the event\, photos and films will be taken by Munich Urban Colab fo
 r public relations purposes.
ATTACH;FMTTYPE=image/jpeg:https://oekologisch-essen.de/wp-content/uploads/
 2025/04/HdK-Schnippeldisko.png
CATEGORIES:Aktionstag zum Mitmachen
LOCATION:Haus der Kost\, Freddie-Mercury-Straße 5\, 80797 München\, Deuts
 chland
X-APPLE-STRUCTURED-LOCATION;VALUE=URI;X-ADDRESS=Freddie-Mercury-Straße 5\,
  80797 München\, Deutschland;X-APPLE-RADIUS=100;X-TITLE=Haus der Kost:geo
 :0,0
END:VEVENT
BEGIN:VTIMEZONE
TZID:Europe/Berlin
X-LIC-LOCATION:Europe/Berlin
BEGIN:DAYLIGHT
DTSTART:20250330T030000
TZOFFSETFROM:+0100
TZOFFSETTO:+0200
TZNAME:CEST
END:DAYLIGHT
END:VTIMEZONE
END:VCALENDAR