BEGIN:VCALENDAR
VERSION:2.0
PRODID:-//wp-events-plugin.com//7.2.3.1//EN
TZID:Europe/Berlin
X-WR-TIMEZONE:Europe/Berlin
BEGIN:VEVENT
UID:41@oekologisch-essen.de
DTSTART;TZID=Europe/Berlin:20251124T153000
DTEND;TZID=Europe/Berlin:20251124T190000
DTSTAMP:20251110T093052Z
URL:https://oekologisch-essen.de/veranstaltungen/master-class-mit-bio-spit
 zenkoechin-nina-meyer-kraut-wurzelgemuese-saisonal-in-szene-gesetzt/
SUMMARY:Master Class mit Bio-Spitzenköchin Nina Meyer: Kraut & Wurzelgemü
 se – Saisonal in Szene gesetzt
DESCRIPTION:\n\nEs gibt Zutaten\, die bleiben still.\nDie nie laut werden\,
  nie glänzen – und doch alles tragen.\nKraut. Wurzel. Erde. Zeit.\nGena
 u hier beginnt Geschmack.\n\nIn dieser Master Class geht es nicht um Rezep
 te\, sondern um Haltung:\nWie entsteht Tiefe\, wenn Süße auf Säure trif
 ft?\nWie viel Schärfe darf eine Wurzel haben\, bevor sie Charakter bekomm
 t?\nUnd wie verwandelt sich ein schlichtes Gemüse in Dopamin Food?\n\nGem
 einsam entdecken wir die Sprache der Aromen – cremig\, knusprig\, wild\,
  zart.\nWir kochen\, probieren\, verstehen.\nUnd würzen nicht nur das Ger
 icht\, sondern die eigene Intuition.\n\nEin Kurs über Geschmack.\nÜber M
 ut.\nUnd darüber\, wie aus Kraut &amp\; Wurzelküche ein Statement wird.\
 n\n\nInfos zur Anmeldung:\n\nAnmeldeschluss: 17.11.2025\n\nDie Veranstaltu
 ng richtet sich an Küchenverantwortliche der Außer-Haus-Verpflegung (Gem
 einschafts- und Individualverpflegung) in München.\n\nAnmeldung unter:\n\
 nernaehrungswende.rku@muenchen.de\n\n\nMehr Informationen\nZur Webseite de
 r Veranstaltung
ATTACH;FMTTYPE=image/jpeg:https://oekologisch-essen.de/wp-content/uploads/
 2025/10/Titelbild-Kueche-trifft-Region.png
CATEGORIES:Kochkurs
LOCATION:Haus der Kost\, Freddie-Mercury-Straße 5\, 80797 München\, Deuts
 chland
X-APPLE-STRUCTURED-LOCATION;VALUE=URI;X-ADDRESS=Freddie-Mercury-Straße 5\,
  80797 München\, Deutschland;X-APPLE-RADIUS=100;X-TITLE=Haus der Kost:geo
 :0,0
END:VEVENT
BEGIN:VTIMEZONE
TZID:Europe/Berlin
X-LIC-LOCATION:Europe/Berlin
BEGIN:STANDARD
DTSTART:20251026T020000
TZOFFSETFROM:+0200
TZOFFSETTO:+0100
TZNAME:CET
END:STANDARD
END:VTIMEZONE
END:VCALENDAR