BEGIN:VCALENDAR
VERSION:2.0
PRODID:-//wp-events-plugin.com//7.2.3.1//EN
TZID:Europe/Berlin
X-WR-TIMEZONE:Europe/Berlin
BEGIN:VEVENT
UID:46@oekologisch-essen.de
DTSTART;TZID=Europe/Berlin:20260422T153000
DTEND;TZID=Europe/Berlin:20260422T193000
DTSTAMP:20260407T132817Z
URL:https://oekologisch-essen.de/veranstaltungen/master-class-mit-bio-spit
 zenkoch-christoph-erd/
SUMMARY:Bio extrem: Masterclass mit Bio-Spitzenkoch Christoph Erd
DESCRIPTION:Am 22. April 2026 findet im Haus der Kost die zweite Masterclas
 s statt. Dieses Mal unser Gastkoch: Christoph Erd\, der neue Bio-Spitzenko
 ch\, der im Prinz-Luitpold-Haus auf 1846 m Höhe zeigt\, wie Bio gelingt!\
 n\nChristoph Erd nimmt uns mit auf eine persönliche Reise: von seinen Anf
 ängen bis zur Ernennung zum Bio-Spitzenkoch. Dort\, wo andere an Grenzen 
 stoßen\, findet er Wege und Lösungen. Er erzählt von seinen Bio-Lieferb
 etrieben\, von Lieferbeziehungen unter alpinen Bedingungen\, von Produkten
 \, die nur durch Vertrauen\, Nähe und Idealismus möglich sind – und da
 von\, was „Bio extrem“ bedeutet\, wenn Höhenmeter\, Wetter und Logist
 ik kein Hindernis für den Einsatz von Bio-Lebensmitteln sind.\n\nIm Mitte
 lpunkt bei der zweiten Masterclass steht wie immer das gemeinsame Kochen. 
 Zusammen mit Christoph Erd bereiten wir drei seiner beliebtesten Hüttn-Sc
 hmankerl zu – ehrlich\, kraftvoll und kompromisslos bio.\n\nSeien Sie da
 bei und erfahren Sie\, wie es auch in ihrem Alltag gelingt\, Bio-Lebensmit
 tel einzusetzen. Eine Masterclass für alle\, die Bio nicht als Trend vers
 tehen\, sondern als Haltung.\n\nAnmeldung unter: \n\nernaehrungswende.rku@
 muenchen.de\n\nFür Küchenverantwortliche der Außer-Haus-Verpflegung (Ge
 meinschafts- und Individualverpflegung) in München.\nAnmeldefrist: 15.04.
 2026\n\nWir freuen uns auf einen außergewöhnlichen Nachmittag!
ATTACH;FMTTYPE=image/jpeg:https://oekologisch-essen.de/wp-content/uploads/
 2026/04/Titelbild-Kueche-trifft-Region-1.png
CATEGORIES:Kochkurs
LOCATION:Haus der Kost\, Freddie-Mercury-Straße 5\, 80797 München\, Deuts
 chland
X-APPLE-STRUCTURED-LOCATION;VALUE=URI;X-ADDRESS=Freddie-Mercury-Straße 5\,
  80797 München\, Deutschland;X-APPLE-RADIUS=100;X-TITLE=Haus der Kost:geo
 :0,0
END:VEVENT
BEGIN:VTIMEZONE
TZID:Europe/Berlin
X-LIC-LOCATION:Europe/Berlin
BEGIN:DAYLIGHT
DTSTART:20260329T030000
TZOFFSETFROM:+0100
TZOFFSETTO:+0200
TZNAME:CEST
END:DAYLIGHT
END:VTIMEZONE
END:VCALENDAR