BEGIN:VCALENDAR
VERSION:2.0
PRODID:-//wp-events-plugin.com//7.2.3.1//EN
TZID:Europe/Berlin
X-WR-TIMEZONE:Europe/Berlin
BEGIN:VEVENT
UID:12@oekologisch-essen.de
DTSTART;TZID=Europe/Berlin:20230309T140000
DTEND;TZID=Europe/Berlin:20230309T180000
DTSTAMP:20230308T094934Z
URL:https://oekologisch-essen.de/veranstaltungen/kueche-trifft-region/
SUMMARY:Küche trifft Region: Speed-Dating von regionalen Lieferanten
DESCRIPTION:Auf der Suche nach regionalen Bio-Produkten für Ihre Tischgäs
 te?\nKüche trifft Region: hier lernen Sie Lieferbetriebe aus dem Münchn
 er Umland kennen\, von der Erzeugung bis zum Handel\n&nbsp\;\n\nIm "Speed-
 Dating"-Format Handelspartner kennenlernen\, Lieferkonditionen und Preise 
 besprechen und direkt mit der Bestellung loslegen - diese Plattform bieten
  wir an zwei Terminen im Paulaner am Nockherberg.\n\nBei der Verantstaltun
 g kommen Sie mit Landwirten\, Lieferanten und Erzeugern aus der Region in 
 Kontakt. Im Anschluss können Sie sich in entspannter Atmosphäre mit ande
 ren Münchner Küchenleitungen auszutauschen.\n\n&nbsp\;\n\n&nbsp\;\nWann:
 \nDonnerstag\, 9. März\, 14-18 Uhr\nMittwoch\, 19. April\, 14-18 Uhr\nWo:
 \nPaulaner am Nockherberg\nHochstr. 77\, München\nWer:\nDie Veranstaltung
  richtet sich an Küchenleitungen und Beschaffungsverantwortliche in Mü
 nchner Verpflegungseinrichtungen und der Gastronomie.\nWie:\nDie Teilnahme
  ist kostenfrei. \n\nAchtung: begrenzte Teilnehmerzahl!\nWir bitten um Anm
 eldung bis zum 03. März 2023\nJetzt anmelden\n&nbsp\;\n\n&nbsp\;\n\n&nbsp
 \;\n\nEine Kooperation der Projektstelle Ökologisch Essen des BUND Naturs
 chutz\, ECOZEPT\, Naturland\, Bioland und FiBL.\nDie Veranstaltung wird im
  Auftrag der Stabstelle Ernährungswende des Referats für Klima- und Umw
 eltschutz organisiert. Wir danken der Stadt München für die Unterstü
 tzung.\n\n&nbsp\;\nUnsere Partner:\nECOZEPT\n\nNaturland\n\nBioland\n\nFIB
 L\n\n&nbsp\;\n\n&nbsp\;\n\nEinladung zur Veranstaltung (PDF)
ATTACH;FMTTYPE=image/jpeg:https://oekologisch-essen.de/wp-content/uploads/
 2023/02/SharePic_Speed-Dating-32.png
END:VEVENT
BEGIN:VTIMEZONE
TZID:Europe/Berlin
X-LIC-LOCATION:Europe/Berlin
BEGIN:STANDARD
DTSTART:20221030T020000
TZOFFSETFROM:+0200
TZOFFSETTO:+0100
TZNAME:CET
END:STANDARD
END:VTIMEZONE
END:VCALENDAR