BEGIN:VCALENDAR
VERSION:2.0
PRODID:-//wp-events-plugin.com//7.2.3.1//EN
TZID:Europe/Berlin
X-WR-TIMEZONE:Europe/Berlin
BEGIN:VEVENT
UID:44@oekologisch-essen.de
DTSTART;TZID=Europe/Berlin:20260325T100000
DTEND;TZID=Europe/Berlin:20260325T130000
DTSTAMP:20260218T093609Z
URL:https://oekologisch-essen.de/veranstaltungen/kueche-trifft-region-spee
 d-dating-von-lieferbetrieben-grosshandel-logistikunternehmen-und-cateringu
 nternehmen/
SUMMARY:„Küche trifft Region“ – Sonderformat: Erzeugung & Handwerk t
 rifft Handel\, Logistik & Catering
DESCRIPTION:Sie sind Bio-Erzeugerbetrieb oder Großhandels-\, Logistik- ode
 r Cateringunternehmen mit Interesse an regionalen Bio-Lebensmitteln?\n&nbs
 p\;\nDann treffen Sie sich!\n&nbsp\;\nSonderformat „Bio-Gastro-Logisch
 “: hier vernetzen sich Unternehmen aus den Bereichen Logistik\, Großhan
 del und Catering mit regionalen Bio-Betrieben aus Erzeugung und Lebensmitt
 elhandwerk\nGroßhandel\, Logistik- und Cateringunternehmen lernen regiona
 le Bio-Lieferbetriebe persönlich kennen und können so ihr großküchenta
 ugliches Bio-Sortiment erweitern oder ihre Rohwarenbeschaffung auf breiter
 e Beine stellen. Teilnehmende Bio-Betriebe aus Erzeugung und Lebensmittelh
 andwerk erhalten praxisnahe Lösungen\, wie sie ihre Erzeugnisse zur Münc
 hner Kundschaft bringen und Bestell- sowie Abrechnungsprozesse effizienter
  gestalten können. Ziel ist eine möglichst passgenaue Belieferung Münch
 ner Kücheneinrichtungen in allen Verpflegungsbereichen – von der städt
 ischen Kita bis hin zum Wiesn-Zelt.\n\n&nbsp\;\nWann:\nMittwoch\, 25. Mär
 z\, 10-13 Uhr\nWo:\nHaus der Kost\n\nFreddie-Mercury-Straße 5\n\n80797 M
 ünchen\nWer:\nDie Veranstaltung richtet sich an Lieferbetriebe aus der Me
 tropolregion München: Erzeugung und Lebensmittelhandwerk mit bio-regional
 em Sortiment\, an Großhandels- und Logistikunternehmen sowie an Cateringu
 nternehmen mit Kundschaft in der Landeshauptstadt München. Sie findet wie
 der im gewohnten und erfolgreich erprobten Speeddating-Format statt.\nWie:
 \nDie Teilnahme ist kostenfrei. \n\nAchtung: begrenzte Teilnehmerzahl!\nAn
 meldefrist: 10. März 2026\n\nJetzt anmelden\n\n&nbsp\;\n\nZum Veranstaltu
 ngs-Flyer
ATTACH;FMTTYPE=image/jpeg:https://oekologisch-essen.de/wp-content/uploads/
 2026/02/Titelbild-Kueche-trifft-Region.png
CATEGORIES:Vernetzung,Workshop
END:VEVENT
BEGIN:VTIMEZONE
TZID:Europe/Berlin
X-LIC-LOCATION:Europe/Berlin
BEGIN:STANDARD
DTSTART:20251026T020000
TZOFFSETFROM:+0200
TZOFFSETTO:+0100
TZNAME:CET
END:STANDARD
END:VTIMEZONE
END:VCALENDAR