BEGIN:VCALENDAR
VERSION:2.0
PRODID:-//wp-events-plugin.com//7.2.3.1//EN
TZID:Europe/Berlin
X-WR-TIMEZONE:Europe/Berlin
BEGIN:VEVENT
UID:18@oekologisch-essen.de
DTSTART;TZID=Europe/Berlin:20240321T153000
DTEND;TZID=Europe/Berlin:20240321T190000
DTSTAMP:20240301T095740Z
URL:https://oekologisch-essen.de/veranstaltungen/kueche-trifft-region-die-
 4-runde/
SUMMARY:Küche trifft Region - Speed Dating in der vierten Runde
DESCRIPTION:\n\n&nbsp\;\n\nSie sind als Küchenleitung auf der Suche nach r
 egionalen Bio-Produkten? Sie sind Lieferbetrieb in der Metropolregion Mün
 chen und verkaufen großküchentaugliche\, regionale Bio-Produkte?\n\nHier
  können Sie sich treffen! 
END:VEVENT
BEGIN:VTIMEZONE
TZID:Europe/Berlin
X-LIC-LOCATION:Europe/Berlin
BEGIN:STANDARD
DTSTART:20231029T020000
TZOFFSETFROM:+0200
TZOFFSETTO:+0100
TZNAME:CET
END:STANDARD
END:VTIMEZONE
END:VCALENDAR