BEGIN:VCALENDAR
VERSION:2.0
PRODID:-//wp-events-plugin.com//7.2.3.1//EN
TZID:Europe/Berlin
X-WR-TIMEZONE:Europe/Berlin
BEGIN:VEVENT
UID:14@oekologisch-essen.de
DTSTART;TZID=Europe/Berlin:20231116T150000
DTEND;TZID=Europe/Berlin:20231116T190000
DTSTAMP:20231108T232036Z
URL:https://oekologisch-essen.de/veranstaltungen/kueche-trifft-region-bio-
 mit-gesicht-2/
SUMMARY:„Küche trifft Region“ – Bio-Produkte mit Gesicht
DESCRIPTION:Hier treffen sich Münchner Küchenverantwortliche mit regional
 en Bio-Lieferbetrieben\, um bei „Speed-Datings“ Bio-Produkte aus dem M
 ünchner Umland kennen zu lernen. Die Zufriedenheit bei den beteiligten K
 üchen und Lieferbetrieben war sehr groß und neue Geschäftsbeziehungen k
 onnten geschaffen werden. Aufgrund der hohen Nachfrage geht das Format ber
 eits in die dritte Runde.\n\nTermin:\nDonnerstag\, 16. November 2023 - 15 
 bis 19 Uhr\n\nOrt:\nKantine des Baureferats\, Friedenstr. 40\, 81567 Münc
 hen\n\n&nbsp\;\nJetzt anmelden\noder per Mail an bioregiomanagement@ecozep
 t.de\n\n&nbsp\;\nEinladung (PDF)\n&nbsp\;\nMöchten Sie mehr über das For
 mat erfahren? \nEinen Rückblick auf die vergangenen Termine finden Sie hi
 er.
ATTACH;FMTTYPE=image/jpeg:https://oekologisch-essen.de/wp-content/uploads/
 2023/10/SharePic-Speed-Dating_2023.png
END:VEVENT
BEGIN:VTIMEZONE
TZID:Europe/Berlin
X-LIC-LOCATION:Europe/Berlin
BEGIN:STANDARD
DTSTART:20231029T020000
TZOFFSETFROM:+0200
TZOFFSETTO:+0100
TZNAME:CET
END:STANDARD
END:VTIMEZONE
END:VCALENDAR