BEGIN:VCALENDAR
VERSION:2.0
PRODID:-//wp-events-plugin.com//7.2.3.1//EN
TZID:Europe/Berlin
X-WR-TIMEZONE:Europe/Berlin
BEGIN:VEVENT
UID:37@oekologisch-essen.de
DTSTART;TZID=Europe/Berlin:20251030T153000
DTEND;TZID=Europe/Berlin:20251030T183000
DTSTAMP:20250822T085707Z
URL:https://oekologisch-essen.de/veranstaltungen/kueche-trifft-region-3/
SUMMARY:Küche trifft Region
DESCRIPTION:Das Speed-Dating bringt Lieferbetriebe oder Küchenverantwortli
 che aus dem Raum München zusammen. Es bietet Ihnen die Möglichkeit\, sch
 nell und unkompliziert die regionale Produktvielfalt kennenzulernen\, neue
  Kontakte zu knüpfen und Lieferbeziehungen aufzubauen.
ATTACH;FMTTYPE=image/jpeg:https://oekologisch-essen.de/wp-content/uploads/
 2025/08/Titelbild-KuecheTrifftRegion.png
CATEGORIES:Vernetzung
LOCATION:Kantine im technischen Rathaus\, Friedenstraße 40\, München\, De
 utschland
X-APPLE-STRUCTURED-LOCATION;VALUE=URI;X-ADDRESS=Friedenstraße 40\, Münche
 n\, Deutschland;X-APPLE-RADIUS=100;X-TITLE=Kantine im technischen Rathaus:
 geo:0,0
END:VEVENT
BEGIN:VTIMEZONE
TZID:Europe/Berlin
X-LIC-LOCATION:Europe/Berlin
BEGIN:STANDARD
DTSTART:20251026T020000
TZOFFSETFROM:+0200
TZOFFSETTO:+0100
TZNAME:CET
END:STANDARD
END:VTIMEZONE
END:VCALENDAR