BEGIN:VCALENDAR
VERSION:2.0
PRODID:-//wp-events-plugin.com//7.2.3.1//EN
TZID:Europe/Berlin
X-WR-TIMEZONE:Europe/Berlin
BEGIN:VEVENT
UID:30@oekologisch-essen.de
DTSTART;TZID=Europe/Berlin:20241107T153000
DTEND;TZID=Europe/Berlin:20241107T183000
DTSTAMP:20241013T184703Z
URL:https://oekologisch-essen.de/veranstaltungen/kueche-trifft-region-2/
SUMMARY:Küche trifft Region
DESCRIPTION:Bio-regionale Produkte in der Münchner Außer-Haus-Verpflegung
  leicht gemacht!\n&nbsp\;\n\nSie sind...\n\n 	als Küchenleitung auf der S
 uche nach bio-regionalen Produkten?\n 	als Lieferbetrieb auf der Suche nac
 h neuen Geschäftsbeziehungen?\n\nDann sind Sie hier genau richtig! "Küch
 e trifft Region" - die Münchner Kontaktbörse im Speed-Dating Format biet
 et Ihnen die Möglichkeit\, schnell und unkompliziert neue Kontakte zu kn
 üpfen und die regionale Produktvielfalt mit allen Sinnen kennenzulernen.\
 n\n\nAblauf:\n\n 	kurze Einführung durch die Veranstalter\n 	Kennenlernen
 -Runden zwischen Lieferbetrieben und Küchenverantwortlichen (jeweils 5 Mi
 nuten)\n 	Bio-regionales Buffet &amp\; Ausklang\n\nTeilnehmer:\nDie Verans
 taltung richtet sich an\n\n 	Lieferbetriebe aus der Metropolregion Münche
 n und die angrenzenden Landkreise (Erzeugung\, Herstellung\, Lebensmittelh
 andwerk\, Handel)\, die Einstiegsprodukte anbieten (Eine Liste der Produkt
 e finden Sie hier - PDF)\n 	Küchenbetreibende und Beschaffungsverantwortl
 iche von Einrichtungen der GV und der Gastronomie im Stadtgebiet München\
 n\nWeitere Informationen:\n\n 	Flyer zur Veranstaltung (PDF): Flyer-KTR-7-
 November2024\n 	Hinweise für Lieferbetriebe (PDF): AHV-Einstiegsprodukte_
 KTR5\n\nAnmeldung:\nbitte bis zum 28. Oktober 2024\n\n&nbsp\;\n\n\nJetzt a
 nmelden\n&nbsp\;\n\n\n\n\n\n\nVeranstalter\n\n\n\nin Zusammenarbeit mit\n 
                   \n\n 	\n
ATTACH;FMTTYPE=image/jpeg:https://oekologisch-essen.de/wp-content/uploads/
 2024/09/Sharepics-Veranstaltung-Speed-Dating-5.png
CATEGORIES:Vernetzung
LOCATION:Kantine im technischen Rathaus\, Friedenstraße 40\, München\, De
 utschland
X-APPLE-STRUCTURED-LOCATION;VALUE=URI;X-ADDRESS=Friedenstraße 40\, Münche
 n\, Deutschland;X-APPLE-RADIUS=100;X-TITLE=Kantine im technischen Rathaus:
 geo:0,0
END:VEVENT
BEGIN:VTIMEZONE
TZID:Europe/Berlin
X-LIC-LOCATION:Europe/Berlin
BEGIN:STANDARD
DTSTART:20241027T020000
TZOFFSETFROM:+0200
TZOFFSETTO:+0100
TZNAME:CET
END:STANDARD
END:VTIMEZONE
END:VCALENDAR