BEGIN:VCALENDAR
VERSION:2.0
PRODID:-//wp-events-plugin.com//7.2.3.1//EN
TZID:Europe/Berlin
X-WR-TIMEZONE:Europe/Berlin
BEGIN:VEVENT
UID:26@oekologisch-essen.de
DTSTART;TZID=Europe/Berlin:20241019T100000
DTEND;TZID=Europe/Berlin:20241019T160000
DTSTAMP:20241010T085935Z
URL:https://oekologisch-essen.de/veranstaltungen/ismaninger-krauttag/
SUMMARY:Ismaninger Krauttag
DESCRIPTION:Ismaninger Krauttag\nWir feiern regionale Gemüseschätze: Mitt
 e Oktober findet der Ismaninger Krauttag auf dem Kraus Hof statt. Hier kö
 nnen Sie Kraut selber hobeln\, einkaufen oder einfach direkt am Hof genie
 ßen.\n\nVideo: Max Kraus\, Landwirt\, 2.Bürgermeister von Ismaning und K
 raut-Spezialist (Weiterleitung zu Youtube)\n\nDas Programm: \n\n 	Selbst H
 obeln: Probieren Sie sich selbst im Krauthobeln und erleben Sie die Tradit
 ion hautnah. Unter Anleitung erfahrener Krauthobler können Sie das Kraut 
 schneiden und stampfen\, wie es seit Generationen gemacht wird.\n 	Kulinar
 ische Genüsse: Genießen Sie feine Speisen mit Ismaninger Kraut und regio
 nale Getränke. Von traditionellen Gerichten bis hin zu modernen Interpret
 ationen – für jeden Geschmack ist etwas dabei.\n 	Kinderprogramm: Auch 
 für die kleinen Gäste ist gesorgt mit spannenden Mitmachaktionen. Kinder
  können sich im Krauthobeln versuchen\, an Bastelstationen kreativ werden
  und vieles mehr.\n 	Traktorfahrten auf die Felder: Gemütlich mit dem Tra
 ktor dahinzuckeln und vom Wagen aus die Ismaninger Krautfelder bestaunen.\
 n 	Musikbühne: Was wäre ein Fest ohne Musik? Am großen Krautfest spielt
  das Blasorchester ‚Boarisch Kraut‘ auf.\n 	Information und Vorführun
 gen: Erfahren Sie mehr über die Geschichte und den Anbau des Ismaninger K
 rauts. Experten geben Einblicke in die nachhaltige Landwirtschaft und die 
 Bedeutung des Krauts für die Region.\n 	Markt der Möglichkeiten: Regiona
 le Produzenten und Handwerker präsentieren ihre Produkte. Entdecken Sie h
 andgemachte Waren und regionale Spezialitäten.\n\n&nbsp\;\n\n
ATTACH;FMTTYPE=image/jpeg:https://oekologisch-essen.de/wp-content/uploads/
 2024/07/2024-Sharepic-Ismaning-Krauttag.png
CATEGORIES:Aktionstag zum Mitmachen
LOCATION:Kraus Hof\, Bahnhofstraße 21\, Ismaning\, Deutschland
X-APPLE-STRUCTURED-LOCATION;VALUE=URI;X-ADDRESS=Bahnhofstraße 21\, Ismanin
 g\, Deutschland;X-APPLE-RADIUS=100;X-TITLE=Kraus Hof:geo:0,0
END:VEVENT
BEGIN:VTIMEZONE
TZID:Europe/Berlin
X-LIC-LOCATION:Europe/Berlin
BEGIN:DAYLIGHT
DTSTART:20240331T030000
TZOFFSETFROM:+0100
TZOFFSETTO:+0200
TZNAME:CEST
END:DAYLIGHT
END:VTIMEZONE
END:VCALENDAR