BEGIN:VCALENDAR
VERSION:2.0
PRODID:-//wp-events-plugin.com//7.2.3.1//EN
TZID:Europe/Berlin
X-WR-TIMEZONE:Europe/Berlin
BEGIN:VEVENT
UID:33@oekologisch-essen.de
DTSTART;TZID=Europe/Berlin:20241111T143000
DTEND;TZID=Europe/Berlin:20241111T180000
DTSTAMP:20241011T081727Z
URL:https://oekologisch-essen.de/veranstaltungen/forellicious-sushi/
SUMMARY:Forell'icious Sushi
DESCRIPTION:Trendfood mit heimischem Bio-Karpfen\, Saibling &amp\; Co.\n&nb
 sp\;\n\nFisch ist gesund\, schmackhaft und ein Klassiker in der Gastronomi
 e. Allerdings sind viele gängige Fischarten inzwischen stark bedroht. Alt
 ernativen vor unserer Haustür: Forelle\, Saibling oder Karpfen überzeu
 gen nicht nur in Sachen Nachhaltigkeit\, sondern auch geschmacklich und la
 ssen sich mit ein paar Tipps &amp\; Tricks leicht in den Küchenalltag in
 tegrieren.\n\nWir zeigen Ihnen in unserem Praxiskurs\, wie Sie Sushi mit r
 egionalem Fisch zubereiten können. Saibling\, Karpfen und Forelle sind ei
 n echtes Geschmackserlebnis und verleihen der japanischen Spezialität ein
 en heimischen Twist.\n\nDer Workshop bietet einen Einblick in die Vorteile
  von nachhaltiger Fischzucht und zeigt Möglichkeiten auf\, regionalen Bio
 -Fisch erfolgreich in die Speisekarte aufzunehmen.\nModeration\n\n 	Anna B
 ecker\, Susanne Kiehl (Projektstelle Ökologisch Essen\, BUND Naturschutz)
 \n 	Kristina Mayr (Gastro-Team\, Naturland Zeichen GmbH)\n\nKosten\n\n 	Di
 e Veranstaltung ist für Sie kostenfrei.\n\nAnmeldung\n\n 	bitte bis zum 0
 1. November 2024\n\n&nbsp\;\n\n\nJetzt anmelden \n&nbsp\;\n\n&nbsp\;\n\nV
 eranstalter:\n\n\n
ATTACH;FMTTYPE=image/jpeg:https://oekologisch-essen.de/wp-content/uploads/
 2024/10/Titel-Sushi.png
CATEGORIES:Kooperation,Workshop
LOCATION:Haus der Kost München\, Freddie-Mercury-Straße 5\, München\, De
 utschland
X-APPLE-STRUCTURED-LOCATION;VALUE=URI;X-ADDRESS=Freddie-Mercury-Straße 5\,
  München\, Deutschland;X-APPLE-RADIUS=100;X-TITLE=Haus der Kost München:
 geo:0,0
END:VEVENT
BEGIN:VTIMEZONE
TZID:Europe/Berlin
X-LIC-LOCATION:Europe/Berlin
BEGIN:STANDARD
DTSTART:20241027T020000
TZOFFSETFROM:+0200
TZOFFSETTO:+0100
TZNAME:CET
END:STANDARD
END:VTIMEZONE
END:VCALENDAR