BEGIN:VCALENDAR
VERSION:2.0
PRODID:-//wp-events-plugin.com//7.2.3.1//EN
TZID:Europe/Berlin
X-WR-TIMEZONE:Europe/Berlin
BEGIN:VEVENT
UID:40@oekologisch-essen.de
DTSTART;TZID=Europe/Berlin:20260113T093000
DTEND;TZID=Europe/Berlin:20260113T160000
DTSTAMP:20251105T081624Z
URL:https://oekologisch-essen.de/veranstaltungen/fit-fuer-die-bio-gastro-f
 ortbildungsveranstaltung-fuer-lieferbetriebe-der-muenchner-gastronomie/
SUMMARY:Fit für die Bio-Gastro: Fortbildungsveranstaltung für Lieferbetri
 ebe der Münchner Gastronomie
DESCRIPTION:\n\nDas neue Jahr startet oft mit guten Vorsätzen – vielleic
 ht auch für Ihren Vertrieb und Ihre Kommunikation? Passend dazu findet am
  13. Januar 2026 die Veranstaltung „Fit für Bio-Gastro“ im Haus der K
 ost in München statt. Lieferbetriebe regionaler Bio-Produkte im Großraum
  München trainieren miteinander\, Ihr bioregionales\nSortiment überzeuge
 nd Münchner Küchenverantwortlichen und anderen gewerblichen Abnehmer*inn
 en zu präsentieren. Lernen Sie\, sich gut vorbereitet in Verkaufsgespräc
 he zu begeben und die Besonderheiten Ihrer Produkte eindrucksvoll darzuste
 llen.\n\nInhalte des Seminars:\n\n 	Fakten und Geschichten\, die gewerblic
 he Kunden interessieren\n 	Verkaufsgespräche planen und durchführen\n 	U
 nterlagen und Präsentationen gestalten\n 	Gesprächsführung\, Rhetorik u
 nd Körpersprache verstehen und einsetzen\n\n\nNutzen Sie die Gelegenheit\
 , Neues auszuprobieren\, zu üben und von direktem Feedback zu profitieren
 .\nWir freuen uns darauf\, Sie fit für die Münchner Bio-Gastro zu machen
  und gemeinsam erfolgreich ins Jahr zu starten.\n\n\nInfos zur Anmeldung:\
 n\nAnmeldeschluss: 7. Januar 2026\n\nDie Veranstaltung richtet sich an Lie
 ferbetriebe aus der Metropolregion München und angrenzenden Landkreisen: 
 Erzeugung\, Herstellung\, Lebensmittelhandwerk und Handel mit bio-regional
 em Sortiment – unabhängig davon\, ob dieses bereits großküchentauglic
 he Produkte umfasst oder nicht. Eingeladen sind weiterhin auch Betriebe\, 
 die eine Umstellung auf Bio ernsthaft planen und sich für den Vertriebswe
 g Außer-Haus-Verpflegung interessieren.\n\nHier anmelden\n\nLeitung: Heik
 e Zeller (aHEU)\, Beraterin für regionale Vermarktungsstrategien.\n\nDie 
 Teilnahme ist kostenlos. Mittagessen auf Selbstzahler-Basis.\n\n\nMehr Inf
 ormationen\nZur Webseite der Veranstaltung
ATTACH;FMTTYPE=image/jpeg:https://oekologisch-essen.de/wp-content/uploads/
 2025/08/Titelbild-HausDerKost.png
CATEGORIES:Vernetzung,Workshop
LOCATION:Haus der Kost\, Freddie-Mercury-Straße 5\, 80797 München\, Deuts
 chland
X-APPLE-STRUCTURED-LOCATION;VALUE=URI;X-ADDRESS=Freddie-Mercury-Straße 5\,
  80797 München\, Deutschland;X-APPLE-RADIUS=100;X-TITLE=Haus der Kost:geo
 :0,0
END:VEVENT
BEGIN:VTIMEZONE
TZID:Europe/Berlin
X-LIC-LOCATION:Europe/Berlin
BEGIN:STANDARD
DTSTART:20251026T020000
TZOFFSETFROM:+0200
TZOFFSETTO:+0100
TZNAME:CET
END:STANDARD
END:VTIMEZONE
END:VCALENDAR