BEGIN:VCALENDAR
VERSION:2.0
PRODID:-//wp-events-plugin.com//7.2.3.1//EN
TZID:Europe/Berlin
X-WR-TIMEZONE:Europe/Berlin
BEGIN:VEVENT
UID:16@oekologisch-essen.de
DTSTART;TZID=Europe/Berlin:20231114T150000
DTEND;TZID=Europe/Berlin:20231114T173000
DTSTAMP:20231031T134444Z
URL:https://oekologisch-essen.de/veranstaltungen/fischgenuss-aus-der-regio
 n/
SUMMARY:Nachhaltiger Fischgenuss aus der Region
DESCRIPTION:Veranstaltung für Küchenverantwortliche zum Thema heimischer 
 Fisch und seine Zubereitung in Großküchen und Gemeinschaftsverpflegung\n
 Fisch ist gesund\, schmackhaft und ein Klassiker in der Gastronomie. Aller
 dings sind viele gängige Fischarten inzwischen stark bedroht. Zum Glück 
 gibt es nachhaltige Alternativen vor unserer Haustür:\n\nForelle oder Kar
 pfen zum Beispiel überzeugen nicht nur in Sachen Nachhaltigkeit\, sondern
  auch geschmacklich und lassen sich mit ein paar Tipps &amp\; Tricks leich
 t in den Küchenalltag integrieren.\n\nSie möchten als Gastro-Profi Ihren
  Speiseplan nachhaltiger gestalten und Ihren Gästen regionale Köstlichke
 iten anbieten? Wir zeigen wie! Der Workshop bietet einen Einblick in die V
 orteile von nachhaltiger Fischzucht und zeigt Möglichkeiten auf\, den reg
 ionalen Bio-Karpfen erfolgreich in die Speisekarte aufzunehmen.\n\nTermin:
 \nDienstag\, 14. November 2023\n15.00 – 17.30 Uhr\n\nOrt:\nLinde Agora\n
 Dr.-Carl-von-Linde-Straße 6-14\, 82049 München-Pullach\n\nKosten:\ndie T
 eilnahme ist kostenlos\n\nEinladung zur Veranstaltung (PDF)\n&nbsp\;\nJetz
 t anmelden\n&nbsp\;\n
ATTACH;FMTTYPE=image/jpeg:https://oekologisch-essen.de/wp-content/uploads/
 2023/10/Sharepic-Fisch-Workshop.png
END:VEVENT
BEGIN:VTIMEZONE
TZID:Europe/Berlin
X-LIC-LOCATION:Europe/Berlin
BEGIN:STANDARD
DTSTART:20231029T020000
TZOFFSETFROM:+0200
TZOFFSETTO:+0100
TZNAME:CET
END:STANDARD
END:VTIMEZONE
END:VCALENDAR