BEGIN:VCALENDAR
VERSION:2.0
PRODID:-//wp-events-plugin.com//7.2.3.1//EN
TZID:Europe/Berlin
X-WR-TIMEZONE:Europe/Berlin
BEGIN:VEVENT
UID:29@oekologisch-essen.de
DTSTART;TZID=Europe/Berlin:20241115T180000
DTEND;TZID=Europe/Berlin:20241115T210000
DTSTAMP:20241014T065614Z
URL:https://oekologisch-essen.de/veranstaltungen/bio-fuer-den-schmalen-gel
 dbeutel/
SUMMARY:Bio für den schmalen Geldbeutel
DESCRIPTION:Mit preiswerten Grundzutaten und günstigem\, saisonalem und re
 gionalem Einkauf kochen Sie frisch\, gesund und schonen Ihr Budget. Mit du
 rchdachten Rezeptideen\, die alles sinnvoll verwerten holen Sie noch mehr 
 aus Ihren wertvollen Lebensmitteln heraus! Zusammen kochen wir aromatische
 \, ausgewogene Gerichte aus Bio-Lebensmitteln\, die sich gut variieren\, e
 infrieren oder weiterverarbeiten lassen. Aber natürlich werden wir sie er
 st einmal in gemütlicher Runde probieren!\n\nMaximal 12 Teilnehmer\n\nBit
 te mitbringen:\n\n 	Schürze\n 	2 - 3 kleine Vorratsdosen\n\nOrt:\n\n 	Mü
 nchner Ernährungsrat e.V.\n 	Milchstraße 13\, 81667 München\n\nKosten:\
 n\n 	pro Person: 22 € (Mitglied BN München)\n 	26 € (Nichtmitglieder)
 \n\nReferentin:\n\n 	Susanne Kiehl\, Projektstelle Ökologisch Essen\n\n&n
 bsp\;\n\n&nbsp\;\n\n\nAnmeldung:\nbitte per Mail an susanne.kiehl@bn-muenc
 hen.de\n&nbsp\;\nVeranstalter:\n\n\nmit freundlicher Unterstützung:\n\n
ATTACH;FMTTYPE=image/jpeg:https://oekologisch-essen.de/wp-content/uploads/
 2024/09/Titelbild-kochen-geldbeutel.png
CATEGORIES:Kochkurs
END:VEVENT
BEGIN:VTIMEZONE
TZID:Europe/Berlin
X-LIC-LOCATION:Europe/Berlin
BEGIN:STANDARD
DTSTART:20241027T020000
TZOFFSETFROM:+0200
TZOFFSETTO:+0100
TZNAME:CET
END:STANDARD
END:VTIMEZONE
END:VCALENDAR