BEGIN:VCALENDAR
VERSION:2.0
PRODID:-//wp-events-plugin.com//7.2.3.1//EN
TZID:Europe/Berlin
X-WR-TIMEZONE:Europe/Berlin
BEGIN:VEVENT
UID:10@oekologisch-essen.de
DTSTART;TZID=Europe/Berlin;VALUE=DATE:20220110
DTEND;TZID=Europe/Berlin;VALUE=DATE:20220119
DTSTAMP:20220110T142411Z
URL:https://oekologisch-essen.de/veranstaltungen/auf-zum-staffellauch-noch
 -bis-18-01-2022/
SUMMARY:Auf zum #StaffelLauch noch bis 18.01.2022
DESCRIPTION:Wir haben es satt!-Bündnis bittet Demo-Teilnehmer am 22.01.22 
 besser zuhause zu bleiben - aber\, \n\nes besteht für jeden Interessiert
 en die Möglichkeit sich an der Aktion #StaffelLauch zu beteiligen. Das is
 t ganz leicht: Lauchstange\, Handy &amp\; deine Forderung für die Agrarwe
 nde! Alles weitere unter https://www.wir-haben-es-satt.de/mitmachen/staffe
 llauch/\n\nSicher ist: Es wird am 22.1. einen bildstarken Wir haben es sat
 t!-Protest im Regierungsviertel geben – zwar ohne Menschenmengen\, aber 
 wie immer mit Traktorkolonne und starker Aussage!\n\n&nbsp\;
ATTACH;FMTTYPE=image/jpeg:https://oekologisch-essen.de/wp-content/uploads/
 2022/01/2022-01-10-Staffellauch.jpg
END:VEVENT
BEGIN:VTIMEZONE
TZID:Europe/Berlin
X-LIC-LOCATION:Europe/Berlin
BEGIN:STANDARD
DTSTART:20211031T020000
TZOFFSETFROM:+0200
TZOFFSETTO:+0100
TZNAME:CET
END:STANDARD
END:VTIMEZONE
END:VCALENDAR